BEGIN:VCALENDAR
VERSION:2.0
PRODID:-//Excelsior2020 - ECPv6.15.20//NONSGML v1.0//EN
CALSCALE:GREGORIAN
METHOD:PUBLISH
X-WR-CALNAME:Excelsior2020
X-ORIGINAL-URL:https://excelsior2020.eu
X-WR-CALDESC:Events for Excelsior2020
REFRESH-INTERVAL;VALUE=DURATION:PT1H
X-Robots-Tag:noindex
X-PUBLISHED-TTL:PT1H
BEGIN:VTIMEZONE
TZID:Europe/Athens
BEGIN:DAYLIGHT
TZOFFSETFROM:+0200
TZOFFSETTO:+0300
TZNAME:EEST
DTSTART:20190331T010000
END:DAYLIGHT
BEGIN:STANDARD
TZOFFSETFROM:+0300
TZOFFSETTO:+0200
TZNAME:EET
DTSTART:20191027T010000
END:STANDARD
BEGIN:DAYLIGHT
TZOFFSETFROM:+0200
TZOFFSETTO:+0300
TZNAME:EEST
DTSTART:20200329T010000
END:DAYLIGHT
BEGIN:STANDARD
TZOFFSETFROM:+0300
TZOFFSETTO:+0200
TZNAME:EET
DTSTART:20201025T010000
END:STANDARD
BEGIN:DAYLIGHT
TZOFFSETFROM:+0200
TZOFFSETTO:+0300
TZNAME:EEST
DTSTART:20210328T010000
END:DAYLIGHT
BEGIN:STANDARD
TZOFFSETFROM:+0300
TZOFFSETTO:+0200
TZNAME:EET
DTSTART:20211031T010000
END:STANDARD
END:VTIMEZONE
BEGIN:VEVENT
DTSTART;TZID=Europe/Athens:20200309T000000
DTEND;TZID=Europe/Athens:20200309T000000
DTSTAMP:20260417T015749
CREATED:20240424T074210Z
LAST-MODIFIED:20240424T131433Z
UID:1710-1583712000-1583712000@excelsior2020.eu
SUMMARY:Scientific lecture in the framework of the EXCELSIOR H2020 Teaming project by TROPOS Senior Researcher\, Dr. Ulla Wandinger
DESCRIPTION:The Department of Civil Engineering and Geomatics of the Cyprus University of Technology in cooperation with project EXCELSIOR H2020 Teaming\, held an open scientific lecture on Monday\, March 9\, 2020 with the internationally recognized senior researcher Dr. Ulla Wandinger. During the lecture\, the dean of the Faculty of Engineering and Technology\, Prof. Phaedon Kyriakides\, addressed a brief greeting.\nDr. Ulla Wandinger is a Senior Research Scientist and Deputy Head of the Institute’s Department of Remote Sensing of Atmospheric Processes for Tropospheric Research (TROPOS) in Leipzig\, Germany. She has gain more than 30 years of experience in aerosol and cloud remote sensing and published more than 90 articles in peer‐reviewed journals. Over the last decade\, she has been strongly involved in the construction of the European Aerosol\, Clouds\, and Trace Gases Research Infrastructure (ACTRIS). Ulla Wandinger is coordinator of the German ACTRIS consortium and member of the ESA‐JAXA EarthCARE Joint Mission Advisory Group\, the ACTRIS Executive Board\, and the EARLINET Council. \n\nThe lecture entitled “The European Research Infrastructure ACTRIS and the ERATOSTHENES Center of Excellence: Exploring the Importance of Atmospheric Sensing for the EMMENA Region” was organized as part of the actions of the EXCELSIOR H2020 program [GA: 857510] for the transfer of know-how and enhancing Research and Innovation. \nIn her presentation\, Dr. Ulla Wandinger referred to the importance and necessity of the ACTRIS European Research Infrastructure for the study of Atmosphere\, Climate Change and Air Pollution as well as the strategic role of the Atmospheric Observatory Research Infrastructure for the area. It is worth noting that ACTRIS is a pan-European research infrastructure for providing on short‐lived atmospheric constituents and the processes that control their life cycles. \nTo download the invitation to the Open Lecture please Click Here \n\nIn addition to the open lecture\, a second lecture entitled “Ground-based remote sensing of aerosol and clouds: Lidar and radar measurements of climate-relevant processes in the atmosphere” was delivered. Dr. Ulla Wandinger\, mainly targeting doctoral candidates\, master students and young researchers\, introduced new trends\, techniques and methodologies for studying atmospheric and climate parameters. At the end of the presentations the students had the opportunity to ask questions and talk to Dr. Ulla Wandinger on future research trends and opportunities offered through the newly established ERATOSTHENES Centre of Excellence. \nTo download the invitation to the Seminar for MSc\, PhD students and Researchers please Click Here
URL:https://excelsior2020.eu/event/scientific-lecture-in-the-framework-of-the-excelsior-h2020-teaming-project-by-tropos-senior-researcher-dr-ulla-wandinger/
CATEGORIES:Events
ATTACH;FMTTYPE=image/jpeg:https://excelsior2020.eu/wp-content/uploads/2024/04/ULA1-vyNeSH.tmp_.jpg
END:VEVENT
END:VCALENDAR